BEGIN:VCALENDAR
VERSION:2.0
PRODID:-//Roaring Fork Sessions - ECPv6.15.20//NONSGML v1.0//EN
CALSCALE:GREGORIAN
METHOD:PUBLISH
X-WR-CALNAME:Roaring Fork Sessions
X-ORIGINAL-URL:https://roaringforksessions.com
X-WR-CALDESC:Events for Roaring Fork Sessions
REFRESH-INTERVAL;VALUE=DURATION:PT1H
X-Robots-Tag:noindex
X-PUBLISHED-TTL:PT1H
BEGIN:VTIMEZONE
TZID:America/Denver
BEGIN:DAYLIGHT
TZOFFSETFROM:-0700
TZOFFSETTO:-0600
TZNAME:MDT
DTSTART:20240310T090000
END:DAYLIGHT
BEGIN:STANDARD
TZOFFSETFROM:-0600
TZOFFSETTO:-0700
TZNAME:MST
DTSTART:20241103T080000
END:STANDARD
BEGIN:DAYLIGHT
TZOFFSETFROM:-0700
TZOFFSETTO:-0600
TZNAME:MDT
DTSTART:20250309T090000
END:DAYLIGHT
BEGIN:STANDARD
TZOFFSETFROM:-0600
TZOFFSETTO:-0700
TZNAME:MST
DTSTART:20251102T080000
END:STANDARD
BEGIN:DAYLIGHT
TZOFFSETFROM:-0700
TZOFFSETTO:-0600
TZNAME:MDT
DTSTART:20260308T090000
END:DAYLIGHT
BEGIN:STANDARD
TZOFFSETFROM:-0600
TZOFFSETTO:-0700
TZNAME:MST
DTSTART:20261101T080000
END:STANDARD
END:VTIMEZONE
BEGIN:VEVENT
DTSTART;TZID=America/Denver:20250920T200000
DTEND;TZID=America/Denver:20250920T220000
DTSTAMP:20260421T051214
CREATED:20250220T235540Z
LAST-MODIFIED:20250220T235540Z
UID:182-1758398400-1758405600@roaringforksessions.com
SUMMARY:An Evening with Lindsay Lou
DESCRIPTION:An Evening with Lindsay Lou \n“Guided by life experiences\, Lindsay Lou’s sound and songwriting continues to evolve and intertwine her sturdy Bluegrass roots with progressive Americana and Folk.” – PBS “I saw a literal manifestation of the sacred feminine and had this profound sense that I was meant to embody it\,” recalls celebrated singer-songwriter Lindsay Lou after journeying through a hallucinogenic ritual that would inform the way she processed waves of grief in the sea of change ahead of her. The loss of her grandmother\, the end of her marriage\, and the overwhelming turmoil of COVID lockdowns found the Nashville-based artist on a spiritual journey of self-knowledge and healing with this gift from the mystic swirl. \nOn her new album Queen of Time (due September 29th from Kill Rock Stars)\, Lou explores that quest across ten tracks of tender\, heartbreakingly beautiful music. With this new vision of womanhood in mind.
URL:https://roaringforksessions.com/event/an-evening-with-lindsay-lou/
LOCATION:Wheeler Opera House\, 320 E Hyman Ave\, Aspen\, CO\, 81611\, United States
CATEGORIES:Wheeler Opera House
ATTACH;FMTTYPE=image/jpeg:https://roaringforksessions.com/wp-content/uploads/2025/02/RFS_Lindsay-Lou_wheeler_v13.jpg
ORGANIZER;CN="Roaring Fork Sessions":MAILTO:roaringforksessions@gmail.com
END:VEVENT
END:VCALENDAR